BEGIN:VCALENDAR
VERSION:2.0
PRODID:-//Swami Aatma - ECPv6.15.20//NONSGML v1.0//EN
CALSCALE:GREGORIAN
METHOD:PUBLISH
X-WR-CALNAME:Swami Aatma
X-ORIGINAL-URL:http://swamiaatma.de
X-WR-CALDESC:Veranstaltungen für Swami Aatma
REFRESH-INTERVAL;VALUE=DURATION:PT1H
X-Robots-Tag:noindex
X-PUBLISHED-TTL:PT1H
BEGIN:VTIMEZONE
TZID:Europe/Berlin
BEGIN:DAYLIGHT
TZOFFSETFROM:+0100
TZOFFSETTO:+0200
TZNAME:CEST
DTSTART:20250330T010000
END:DAYLIGHT
BEGIN:STANDARD
TZOFFSETFROM:+0200
TZOFFSETTO:+0100
TZNAME:CET
DTSTART:20251026T010000
END:STANDARD
BEGIN:DAYLIGHT
TZOFFSETFROM:+0100
TZOFFSETTO:+0200
TZNAME:CEST
DTSTART:20260329T010000
END:DAYLIGHT
BEGIN:STANDARD
TZOFFSETFROM:+0200
TZOFFSETTO:+0100
TZNAME:CET
DTSTART:20261025T010000
END:STANDARD
BEGIN:DAYLIGHT
TZOFFSETFROM:+0100
TZOFFSETTO:+0200
TZNAME:CEST
DTSTART:20270328T010000
END:DAYLIGHT
BEGIN:STANDARD
TZOFFSETFROM:+0200
TZOFFSETTO:+0100
TZNAME:CET
DTSTART:20271031T010000
END:STANDARD
END:VTIMEZONE
BEGIN:VEVENT
DTSTART;TZID=Europe/Berlin:20260618T180000
DTEND;TZID=Europe/Berlin:20260621T150000
DTSTAMP:20260421T145508
CREATED:20251121T075247Z
LAST-MODIFIED:20251121T081010Z
UID:8335-1781805600-1782054000@swamiaatma.de
SUMMARY:Seminar: Deine Stärken und Schwächen - Erkenne dein wahres Selbst!
DESCRIPTION:Hier geht’s zu den Details.
URL:http://swamiaatma.de/event/seminar-deine-staerken-und-schwaechen-erkenne-dein-wahres-selbst/
LOCATION:Seminar- und Ferienhaus Lindenbühl\, Lindenbühl 2\, Trogen\, Thurgau\, 9043\, Switzerland
ATTACH;FMTTYPE=image/jpeg:http://swamiaatma.de/wp-content/uploads/2025/11/46A6797-scaled.jpg
END:VEVENT
BEGIN:VEVENT
DTSTART;TZID=Europe/Berlin:20260903T180000
DTEND;TZID=Europe/Berlin:20260906T150000
DTSTAMP:20260421T145508
CREATED:20260324T145246Z
LAST-MODIFIED:20260324T145246Z
UID:8766-1788458400-1788706800@swamiaatma.de
SUMMARY:Seminar - Das Geheimnis übernatürlicher Kräfte
DESCRIPTION:Hier gehts zu den Details.
URL:http://swamiaatma.de/event/seminar-das-geheimnis-uebernatuerlicher-kraefte/
LOCATION:Seminar- und Ferienhaus Hollerbühl\, Schmalenberg 20\, Dachsberg\, 79875\, Germany
CATEGORIES:seminar
ATTACH;FMTTYPE=image/jpeg:http://swamiaatma.de/wp-content/uploads/2026/03/346A2109-scaled.jpg
END:VEVENT
BEGIN:VEVENT
DTSTART;TZID=Europe/Berlin:20260919T170000
DTEND;TZID=Europe/Berlin:20260919T170000
DTSTAMP:20260421T145508
CREATED:20251120T185719Z
LAST-MODIFIED:20251221T174839Z
UID:8216-1789837200-1789837200@swamiaatma.de
SUMMARY:Satsang und Darshan mit Swami Aatma
DESCRIPTION:Hier findest du nähere Infos.
URL:http://swamiaatma.de/event/satsang-und-darshan-mit-swami-aatma-3/
LOCATION:Dorfgemeinschaftshaus Maleck\, Kirchgäßle 7\, Emmendingen\, 79312\, Germany
ATTACH;FMTTYPE=image/png:http://swamiaatma.de/wp-content/uploads/2025/11/freiburgswami-e1763729592704.png
END:VEVENT
BEGIN:VEVENT
DTSTART;TZID=Europe/Berlin:20260920T170000
DTEND;TZID=Europe/Berlin:20260920T170000
DTSTAMP:20260421T145508
CREATED:20251120T185757Z
LAST-MODIFIED:20251221T174914Z
UID:8218-1789923600-1789923600@swamiaatma.de
SUMMARY:Satsang und Darshan mit Swami Aatma
DESCRIPTION:Hier findest du nähere Infos.
URL:http://swamiaatma.de/event/satsang-und-darshan-mit-swami-aatma-4/
LOCATION:Dorfgemeinschaftshaus Maleck\, Kirchgäßle 7\, Emmendingen\, 79312\, Germany
ATTACH;FMTTYPE=image/png:http://swamiaatma.de/wp-content/uploads/2025/11/freiburgswami-e1763729592704.png
END:VEVENT
BEGIN:VEVENT
DTSTART;TZID=Europe/Berlin:20261017T180000
DTEND;TZID=Europe/Berlin:20261017T180000
DTSTAMP:20260421T145508
CREATED:20251120T185617Z
LAST-MODIFIED:20260317T134815Z
UID:8214-1792260000-1792260000@swamiaatma.de
SUMMARY:Satsang und Darshan mit Swami Aatma
DESCRIPTION:Hier findest du nähere Infos.
URL:http://swamiaatma.de/event/satsang-und-darshan-mit-swami-aatma-2/
LOCATION:Feuerwehrgerätehaus Wittenhofen\, Schulweg 9\, Deggenhausertal\, 88693\, Germany
ATTACH;FMTTYPE=image/png:http://swamiaatma.de/wp-content/uploads/2025/11/bodenseeswami-e1763729479479.png
END:VEVENT
BEGIN:VEVENT
DTSTART;TZID=Europe/Berlin:20261018T180000
DTEND;TZID=Europe/Berlin:20261018T180000
DTSTAMP:20260421T145508
CREATED:20251120T185504Z
LAST-MODIFIED:20260317T134843Z
UID:8211-1792346400-1792346400@swamiaatma.de
SUMMARY:Satsang und Darshan mit Swami Aatma
DESCRIPTION:Hier findest du nähere Infos.
URL:http://swamiaatma.de/event/satsang-und-darshan-mit-swami-aatma/
LOCATION:Feuerwehrgerätehaus Wittenhofen\, Schulweg 9\, Deggenhausertal\, 88693\, Germany
ATTACH;FMTTYPE=image/png:http://swamiaatma.de/wp-content/uploads/2025/11/bodenseeswami-e1763729479479.png
END:VEVENT
END:VCALENDAR